BEGIN:VCALENDAR
VERSION:2.0
PRODID:-//Ukrainian Foundation | Nonprofit Emergency Fundraising in Portland, OR - ECPv6.15.20//NONSGML v1.0//EN
CALSCALE:GREGORIAN
METHOD:PUBLISH
X-WR-CALNAME:Ukrainian Foundation | Nonprofit Emergency Fundraising in Portland, OR
X-ORIGINAL-URL:https://ukrainian.foundation
X-WR-CALDESC:Events for Ukrainian Foundation | Nonprofit Emergency Fundraising in Portland, OR
REFRESH-INTERVAL;VALUE=DURATION:PT1H
X-Robots-Tag:noindex
X-PUBLISHED-TTL:PT1H
BEGIN:VTIMEZONE
TZID:America/Los_Angeles
BEGIN:DAYLIGHT
TZOFFSETFROM:-0800
TZOFFSETTO:-0700
TZNAME:PDT
DTSTART:20230312T100000
END:DAYLIGHT
BEGIN:STANDARD
TZOFFSETFROM:-0700
TZOFFSETTO:-0800
TZNAME:PST
DTSTART:20231105T090000
END:STANDARD
BEGIN:DAYLIGHT
TZOFFSETFROM:-0800
TZOFFSETTO:-0700
TZNAME:PDT
DTSTART:20240310T100000
END:DAYLIGHT
BEGIN:STANDARD
TZOFFSETFROM:-0700
TZOFFSETTO:-0800
TZNAME:PST
DTSTART:20241103T090000
END:STANDARD
BEGIN:DAYLIGHT
TZOFFSETFROM:-0800
TZOFFSETTO:-0700
TZNAME:PDT
DTSTART:20250309T100000
END:DAYLIGHT
BEGIN:STANDARD
TZOFFSETFROM:-0700
TZOFFSETTO:-0800
TZNAME:PST
DTSTART:20251102T090000
END:STANDARD
END:VTIMEZONE
BEGIN:VEVENT
DTSTART;TZID=America/Los_Angeles:20240317T180000
DTEND;TZID=America/Los_Angeles:20240317T180000
DTSTAMP:20260421T100329
CREATED:20240312T220851Z
LAST-MODIFIED:20240319T220921Z
UID:10001446-1710698400-1710698400@ukrainian.foundation
SUMMARY:Ukrainian National Poetry Reading Week
DESCRIPTION:Ukrainian Foundation Invites you to join the Ukrainian National Poetry Reading evening. An evening of reading poetry and reminiscing about Ukrainian native home\, city\, and country. \n 
URL:https://ukrainian.foundation/event/ukrainian-national-poetry-reading-week/
LOCATION:Ukrainian Orthodox Church\, 8014 SE 16th Ave\,\, Portland\, 97202\, United States
ATTACH;FMTTYPE=image/jpeg:https://ukrainian.foundation/wp-content/uploads/2024/03/431095930_351727154331511_1895531445934436753_n.jpg
GEO:45.4654799;-122.648834
X-APPLE-STRUCTURED-LOCATION;VALUE=URI;X-ADDRESS=Ukrainian Orthodox Church 8014 SE 16th Ave Portland 97202 United States;X-APPLE-RADIUS=500;X-TITLE=8014 SE 16th Ave\,:geo:-122.648834,45.4654799
END:VEVENT
END:VCALENDAR