BEGIN:VCALENDAR
VERSION:2.0
PRODID:-//Ukrainian Foundation | Nonprofit Emergency Fundraising in Portland, OR - ECPv6.15.20//NONSGML v1.0//EN
CALSCALE:GREGORIAN
METHOD:PUBLISH
X-ORIGINAL-URL:https://ukrainian.foundation
X-WR-CALDESC:Events for Ukrainian Foundation | Nonprofit Emergency Fundraising in Portland, OR
REFRESH-INTERVAL;VALUE=DURATION:PT1H
X-Robots-Tag:noindex
X-PUBLISHED-TTL:PT1H
BEGIN:VTIMEZONE
TZID:America/Los_Angeles
BEGIN:DAYLIGHT
TZOFFSETFROM:-0800
TZOFFSETTO:-0700
TZNAME:PDT
DTSTART:20230312T100000
END:DAYLIGHT
BEGIN:STANDARD
TZOFFSETFROM:-0700
TZOFFSETTO:-0800
TZNAME:PST
DTSTART:20231105T090000
END:STANDARD
BEGIN:DAYLIGHT
TZOFFSETFROM:-0800
TZOFFSETTO:-0700
TZNAME:PDT
DTSTART:20240310T100000
END:DAYLIGHT
BEGIN:STANDARD
TZOFFSETFROM:-0700
TZOFFSETTO:-0800
TZNAME:PST
DTSTART:20241103T090000
END:STANDARD
BEGIN:DAYLIGHT
TZOFFSETFROM:-0800
TZOFFSETTO:-0700
TZNAME:PDT
DTSTART:20250309T100000
END:DAYLIGHT
BEGIN:STANDARD
TZOFFSETFROM:-0700
TZOFFSETTO:-0800
TZNAME:PST
DTSTART:20251102T090000
END:STANDARD
END:VTIMEZONE
BEGIN:VEVENT
DTSTART;TZID=America/Los_Angeles:20240503T093000
DTEND;TZID=America/Los_Angeles:20240503T113000
DTSTAMP:20260421T102031
CREATED:20240328T222437Z
LAST-MODIFIED:20240329T222516Z
UID:10001453-1714728600-1714735800@ukrainian.foundation
SUMMARY:Everything about Mushrooms!
DESCRIPTION:We invite you to attend a mushroom class organized by the Ukrainian Foundation and the Oregon Mycological Society. The class will consist of three lectures\, during which you can learn about mushrooms in general and the local varieties that are edible and those that are not. \nЗапрошуємо на клас про гриби від Ukrainian Foundation і Oregon Mycological Society! Три лекції\, ви дізнаєтесь загалом про клас грибів\, а також про місцеві гриби\, які їстівні\, а які ні!\nТри суботи з 9:30 до 11:30 у приміщенні Multnomah Art Centre. Реєстрація обов’язкова. Будь ласка реєструйтеся якщо ви маєте серйозний намір відвідати лекції!\nРеєстрація за посиланням: https://forms.gle/M22bzBT8vgYiHytb8
URL:https://ukrainian.foundation/event/everything-about-mushrooms/2024-05-03/
LOCATION:Multnomah Arts Center\, 7688 SW Capitol Hwy\, Portland\, Portland\, 97219\, United States
ATTACH;FMTTYPE=image/jpeg:https://ukrainian.foundation/wp-content/uploads/2024/03/434255661_945956280241144_7498489593699714141_n.jpg
GEO:45.4682223;-122.7099031
X-APPLE-STRUCTURED-LOCATION;VALUE=URI;X-ADDRESS=Multnomah Arts Center 7688 SW Capitol Hwy Portland Portland 97219 United States;X-APPLE-RADIUS=500;X-TITLE=7688 SW Capitol Hwy:geo:-122.7099031,45.4682223
END:VEVENT
END:VCALENDAR