BEGIN:VCALENDAR
VERSION:2.0
PRODID:-//Ukrainian Foundation | Nonprofit Emergency Fundraising in Portland, OR - ECPv6.15.20//NONSGML v1.0//EN
CALSCALE:GREGORIAN
METHOD:PUBLISH
X-ORIGINAL-URL:https://ukrainian.foundation
X-WR-CALDESC:Events for Ukrainian Foundation | Nonprofit Emergency Fundraising in Portland, OR
REFRESH-INTERVAL;VALUE=DURATION:PT1H
X-Robots-Tag:noindex
X-PUBLISHED-TTL:PT1H
BEGIN:VTIMEZONE
TZID:America/Los_Angeles
BEGIN:DAYLIGHT
TZOFFSETFROM:-0800
TZOFFSETTO:-0700
TZNAME:PDT
DTSTART:20220313T100000
END:DAYLIGHT
BEGIN:STANDARD
TZOFFSETFROM:-0700
TZOFFSETTO:-0800
TZNAME:PST
DTSTART:20221106T090000
END:STANDARD
BEGIN:DAYLIGHT
TZOFFSETFROM:-0800
TZOFFSETTO:-0700
TZNAME:PDT
DTSTART:20230312T100000
END:DAYLIGHT
BEGIN:STANDARD
TZOFFSETFROM:-0700
TZOFFSETTO:-0800
TZNAME:PST
DTSTART:20231105T090000
END:STANDARD
BEGIN:DAYLIGHT
TZOFFSETFROM:-0800
TZOFFSETTO:-0700
TZNAME:PDT
DTSTART:20240310T100000
END:DAYLIGHT
BEGIN:STANDARD
TZOFFSETFROM:-0700
TZOFFSETTO:-0800
TZNAME:PST
DTSTART:20241103T090000
END:STANDARD
BEGIN:DAYLIGHT
TZOFFSETFROM:-0800
TZOFFSETTO:-0700
TZNAME:PDT
DTSTART:20250309T100000
END:DAYLIGHT
BEGIN:STANDARD
TZOFFSETFROM:-0700
TZOFFSETTO:-0800
TZNAME:PST
DTSTART:20251102T090000
END:STANDARD
END:VTIMEZONE
BEGIN:VEVENT
DTSTART;TZID=America/Los_Angeles:20240712T100000
DTEND;TZID=America/Los_Angeles:20240714T170000
DTSTAMP:20260421T173122
CREATED:20240611T201150Z
LAST-MODIFIED:20240611T201150Z
UID:10001475-1720778400-1720976400@ukrainian.foundation
SUMMARY:Helvetia Lavender Festival
DESCRIPTION:Wander through the lavender fields\, cut your own flower bundles\, and take in stunning views of the Willamette Valley during the 2024 Helvetia Lavender Festival. Helvetia Lavender Farm is a short drive from Portland and showcases 60 different varieties of lavender. During the annual festival\, guests are invited to enjoy the fields during peak bloom. \n  \nUkrainian Foundation will be participating in this amazing event. \nAdmissions can be purchased online or at the gate. Admissions donated to Non-Profit Samaritan Ministries in Ukraine \nThe festival is held over two weekends\, from 10 a.m. to 5 p.m. July 5 through July 7 and from July 12 to July 14.
URL:https://ukrainian.foundation/event/helvetia-lavender-festival-3/
LOCATION:Helvetia Lavender Farm\, 12814 NW Bishop Rd\, Hillsboro\, OR\, 97124\, United States
ATTACH;FMTTYPE=image/jpeg:https://ukrainian.foundation/wp-content/uploads/2023/06/2024-01-12.jpg
GEO:45.612621;-122.915943
X-APPLE-STRUCTURED-LOCATION;VALUE=URI;X-ADDRESS=Helvetia Lavender Farm 12814 NW Bishop Rd Hillsboro OR 97124 United States;X-APPLE-RADIUS=500;X-TITLE=12814 NW Bishop Rd:geo:-122.915943,45.612621
END:VEVENT
BEGIN:VEVENT
DTSTART;TZID=America/Los_Angeles:20240705T100000
DTEND;TZID=America/Los_Angeles:20240707T170000
DTSTAMP:20260421T173122
CREATED:20240611T201043Z
LAST-MODIFIED:20240611T201043Z
UID:10001474-1720173600-1720371600@ukrainian.foundation
SUMMARY:Helvetia Lavender Festival
DESCRIPTION:Wander through the lavender fields\, cut your own flower bundles\, and take in stunning views of the Willamette Valley during the 2024 Helvetia Lavender Festival. Helvetia Lavender Farm is a short drive from Portland and showcases 60 different varieties of lavender. During the annual festival\, guests are invited to enjoy the fields during peak bloom. \n  \nUkrainian Foundation will be participating in this amazing event. \nAdmissions can be purchased online or at the gate. Admissions donated to Non-Profit Samaritan Ministries in Ukraine \nThe festival is held over two weekends\, from 10 a.m. to 5 p.m. July 5 through July 7 and from July 12 to July 14.
URL:https://ukrainian.foundation/event/helvetia-lavender-festival-2/
LOCATION:Helvetia Lavender Farm\, 12814 NW Bishop Rd\, Hillsboro\, OR\, 97124\, United States
ATTACH;FMTTYPE=image/jpeg:https://ukrainian.foundation/wp-content/uploads/2023/06/2024-01-12.jpg
GEO:45.612621;-122.915943
X-APPLE-STRUCTURED-LOCATION;VALUE=URI;X-ADDRESS=Helvetia Lavender Farm 12814 NW Bishop Rd Hillsboro OR 97124 United States;X-APPLE-RADIUS=500;X-TITLE=12814 NW Bishop Rd:geo:-122.915943,45.612621
END:VEVENT
BEGIN:VEVENT
DTSTART;TZID=America/Los_Angeles:20230707T100000
DTEND;TZID=America/Los_Angeles:20230709T170000
DTSTAMP:20260421T173122
CREATED:20230616T022740Z
LAST-MODIFIED:20230621T030158Z
UID:10000017-1688724000-1688922000@ukrainian.foundation
SUMMARY:Helvetia Lavender Festival
DESCRIPTION:Wander through the lavender fields\, cut your own flower bundles\, and take in stunning views of the Willamette Valley during the 2023 Helvetia Lavender Festival. Helvetia Lavender Farm is a short drive from Portland and showcases 60 different varieties of lavender. During the annual festival\, guests are invited to enjoy the fields during peak bloom. \n  \nUkrainian Foundation will be participating in this amazing event. \nAdmissions can be purchased online or at the gate. Admissions donated to Non-Profit Samaritan Ministries in Ukraine \nThe festival is held over two weekends\, from 10 a.m. to 5 p.m. June 30 through July 2 and then again from July 7 to July 9.
URL:https://ukrainian.foundation/event/helvetia-lavender-festival/
LOCATION:Helvetia Lavender Farm\, 12814 NW Bishop Rd\, Hillsboro\, OR\, 97124\, United States
ATTACH;FMTTYPE=image/jpeg:https://ukrainian.foundation/wp-content/uploads/2023/06/353868641_706784981251134_5135996483857619760_n.jpg
GEO:45.612621;-122.915943
X-APPLE-STRUCTURED-LOCATION;VALUE=URI;X-ADDRESS=Helvetia Lavender Farm 12814 NW Bishop Rd Hillsboro OR 97124 United States;X-APPLE-RADIUS=500;X-TITLE=12814 NW Bishop Rd:geo:-122.915943,45.612621
END:VEVENT
END:VCALENDAR