BEGIN:VCALENDAR
VERSION:2.0
PRODID:-//Ukrainian Foundation | Nonprofit Emergency Fundraising in Portland, OR - ECPv6.15.20//NONSGML v1.0//EN
CALSCALE:GREGORIAN
METHOD:PUBLISH
X-WR-CALNAME:Ukrainian Foundation | Nonprofit Emergency Fundraising in Portland, OR
X-ORIGINAL-URL:https://ukrainian.foundation
X-WR-CALDESC:Events for Ukrainian Foundation | Nonprofit Emergency Fundraising in Portland, OR
REFRESH-INTERVAL;VALUE=DURATION:PT1H
X-Robots-Tag:noindex
X-PUBLISHED-TTL:PT1H
BEGIN:VTIMEZONE
TZID:America/Los_Angeles
BEGIN:DAYLIGHT
TZOFFSETFROM:-0800
TZOFFSETTO:-0700
TZNAME:PDT
DTSTART:20230312T100000
END:DAYLIGHT
BEGIN:STANDARD
TZOFFSETFROM:-0700
TZOFFSETTO:-0800
TZNAME:PST
DTSTART:20231105T090000
END:STANDARD
BEGIN:DAYLIGHT
TZOFFSETFROM:-0800
TZOFFSETTO:-0700
TZNAME:PDT
DTSTART:20240310T100000
END:DAYLIGHT
BEGIN:STANDARD
TZOFFSETFROM:-0700
TZOFFSETTO:-0800
TZNAME:PST
DTSTART:20241103T090000
END:STANDARD
BEGIN:DAYLIGHT
TZOFFSETFROM:-0800
TZOFFSETTO:-0700
TZNAME:PDT
DTSTART:20250309T100000
END:DAYLIGHT
BEGIN:STANDARD
TZOFFSETFROM:-0700
TZOFFSETTO:-0800
TZNAME:PST
DTSTART:20251102T090000
END:STANDARD
END:VTIMEZONE
BEGIN:VEVENT
DTSTART;TZID=America/Los_Angeles:20240511T120000
DTEND;TZID=America/Los_Angeles:20240511T150000
DTSTAMP:20260421T231012
CREATED:20240422T030939Z
LAST-MODIFIED:20240501T031041Z
UID:10001455-1715428800-1715439600@ukrainian.foundation
SUMMARY:Ukrainian Spring Celebration
DESCRIPTION:The Ukrainian spring celebration is a lively event filled with traditional dance performances\, hands-on arts and crafts workshops\, and Ukrainian national dishes. Families can explore booths showcasing community services while children enjoy activities. It’s a vibrant celebration of Ukrainian culture and a chance for the community to come together.
URL:https://ukrainian.foundation/event/ukrainian-spring-celebration/
LOCATION:Gardiner Middle School\, 205 Williams St\, Oregon City\, 97045\, United States
ATTACH;FMTTYPE=image/jpeg:https://ukrainian.foundation/wp-content/uploads/2024/04/436353905_408598585259420_4841160576387824629_n.jpg
GEO:45.3375102;-122.6026212
X-APPLE-STRUCTURED-LOCATION;VALUE=URI;X-ADDRESS=Gardiner Middle School 205 Williams St Oregon City 97045 United States;X-APPLE-RADIUS=500;X-TITLE=205 Williams St:geo:-122.6026212,45.3375102
END:VEVENT
END:VCALENDAR