BEGIN:VCALENDAR
VERSION:2.0
PRODID:-//Ukrainian Foundation | Nonprofit Emergency Fundraising in Portland, OR - ECPv6.15.20//NONSGML v1.0//EN
CALSCALE:GREGORIAN
METHOD:PUBLISH
X-ORIGINAL-URL:https://ukrainian.foundation
X-WR-CALDESC:Events for Ukrainian Foundation | Nonprofit Emergency Fundraising in Portland, OR
REFRESH-INTERVAL;VALUE=DURATION:PT1H
X-Robots-Tag:noindex
X-PUBLISHED-TTL:PT1H
BEGIN:VTIMEZONE
TZID:America/Los_Angeles
BEGIN:DAYLIGHT
TZOFFSETFROM:-0800
TZOFFSETTO:-0700
TZNAME:PDT
DTSTART:20230312T100000
END:DAYLIGHT
BEGIN:STANDARD
TZOFFSETFROM:-0700
TZOFFSETTO:-0800
TZNAME:PST
DTSTART:20231105T090000
END:STANDARD
BEGIN:DAYLIGHT
TZOFFSETFROM:-0800
TZOFFSETTO:-0700
TZNAME:PDT
DTSTART:20240310T100000
END:DAYLIGHT
BEGIN:STANDARD
TZOFFSETFROM:-0700
TZOFFSETTO:-0800
TZNAME:PST
DTSTART:20241103T090000
END:STANDARD
BEGIN:DAYLIGHT
TZOFFSETFROM:-0800
TZOFFSETTO:-0700
TZNAME:PDT
DTSTART:20250309T100000
END:DAYLIGHT
BEGIN:STANDARD
TZOFFSETFROM:-0700
TZOFFSETTO:-0800
TZNAME:PST
DTSTART:20251102T090000
END:STANDARD
END:VTIMEZONE
BEGIN:VEVENT
DTSTART;TZID=America/Los_Angeles:20240322T193000
DTEND;TZID=America/Los_Angeles:20240322T210000
DTSTAMP:20260421T103511
CREATED:20240313T031615Z
LAST-MODIFIED:20240313T031615Z
UID:10001443-1711135800-1711141200@ukrainian.foundation
SUMMARY:DakhaBrakha
DESCRIPTION:DakhaBrakha is a world music quartet from Kyiv\, Ukraine. Reflecting fundamental elements of sound and soul\, the Ukrainian ethnic chaos band DakhaBrakha creates a world of unexpected new music. \nThe name DakhaBrakha is original\, outstanding\, and authentic. In the old Ukrainian language\, it means give/take. \nAccompanied by traditional instrumentation from different countries\, the quartet’s astonishingly powerful and uncompromising vocal range creates a transnational sound rooted in Ukrainian culture. \nThis powerful and moving evening of entertainment with DakhaBrakha will be a night to remembered.
URL:https://ukrainian.foundation/event/dakhabrakha/
LOCATION:Chemeketa Community College Theatre Auditorium\, 4000 Lancaster Drive Northeast Building 6\, Salem\, 97305\, United States
ATTACH;FMTTYPE=image/jpeg:https://ukrainian.foundation/wp-content/uploads/2024/03/DakhaBrakha.jpg
GEO:44.9763752;-122.9780317
X-APPLE-STRUCTURED-LOCATION;VALUE=URI;X-ADDRESS=Chemeketa Community College Theatre Auditorium 4000 Lancaster Drive Northeast Building 6 Salem 97305 United States;X-APPLE-RADIUS=500;X-TITLE=4000 Lancaster Drive Northeast Building 6:geo:-122.9780317,44.9763752
END:VEVENT
END:VCALENDAR