BEGIN:VCALENDAR
VERSION:2.0
PRODID:-//Ukrainian Foundation | Nonprofit Emergency Fundraising in Portland, OR - ECPv6.15.20//NONSGML v1.0//EN
CALSCALE:GREGORIAN
METHOD:PUBLISH
X-ORIGINAL-URL:https://ukrainian.foundation
X-WR-CALDESC:Events for Ukrainian Foundation | Nonprofit Emergency Fundraising in Portland, OR
REFRESH-INTERVAL;VALUE=DURATION:PT1H
X-Robots-Tag:noindex
X-PUBLISHED-TTL:PT1H
BEGIN:VTIMEZONE
TZID:America/Los_Angeles
BEGIN:DAYLIGHT
TZOFFSETFROM:-0800
TZOFFSETTO:-0700
TZNAME:PDT
DTSTART:20250309T100000
END:DAYLIGHT
BEGIN:STANDARD
TZOFFSETFROM:-0700
TZOFFSETTO:-0800
TZNAME:PST
DTSTART:20251102T090000
END:STANDARD
BEGIN:DAYLIGHT
TZOFFSETFROM:-0800
TZOFFSETTO:-0700
TZNAME:PDT
DTSTART:20260308T100000
END:DAYLIGHT
BEGIN:STANDARD
TZOFFSETFROM:-0700
TZOFFSETTO:-0800
TZNAME:PST
DTSTART:20261101T090000
END:STANDARD
BEGIN:DAYLIGHT
TZOFFSETFROM:-0800
TZOFFSETTO:-0700
TZNAME:PDT
DTSTART:20270314T100000
END:DAYLIGHT
BEGIN:STANDARD
TZOFFSETFROM:-0700
TZOFFSETTO:-0800
TZNAME:PST
DTSTART:20271107T090000
END:STANDARD
END:VTIMEZONE
BEGIN:VEVENT
DTSTART;VALUE=DATE:20260314
DTEND;VALUE=DATE:20260315
DTSTAMP:20260419T175108
CREATED:20260117T192916Z
LAST-MODIFIED:20260117T192916Z
UID:10001534-1773446400-1773532799@ukrainian.foundation
SUMMARY:EMDR-ТЕРАПІЯ
DESCRIPTION:Групова терапія кризового втручання\nз сертифікованим терапевтом DeLyn Griffin\, MA\, LMFT\nта Nadya Mirza\, Graduate Intern \nБезкоштовна підтримка для українських іммігрантів\nу співпраці з нашими партнерами SAGE COUNSELING \nEMDR-ТЕРАПІЯ розроблена для того\, щоб допомагати людям опрацьовувати дистрес\, пов’язаний зі стресовими або травматичними подіями\, без необхідності детально відтворювати травматичний. Детальніше про EMDR G-TEP — у флаєрі. \n\nПРИЄДНУЙТЕСЬ ДО НАС ТА РОЗВИВАЙТЕ СВОЮ СТІЙКІСТЬ\nФормат: очно \nКоли: суботи\n 10:00 — 11:30 (для сімей)\n 12:00 — 13:30 (для дорослих) \nДати:\n• 17 та 31 січня\n• 14 та 28 лютого\n• 14 та 28 березня \nРеєстрація: за QR-кодом \n \nабо телефоном\n (971) 200-1307 \nЛокація:\n6950 SW Hampton St.\, Suite 310\nTigard\, OR 97223
URL:https://ukrainian.foundation/event/emdr-05/
ATTACH;FMTTYPE=image/png:https://ukrainian.foundation/wp-content/uploads/2026/01/Screenshot-2026-01-14-at-2.10.28-PM.png
END:VEVENT
BEGIN:VEVENT
DTSTART;TZID=America/Los_Angeles:20260404T100000
DTEND;TZID=America/Los_Angeles:20260404T113000
DTSTAMP:20260419T175108
CREATED:20260302T213525Z
LAST-MODIFIED:20260302T213616Z
UID:10001537-1775296800-1775302200@ukrainian.foundation
SUMMARY:Сімейне передвеликоднє свято для дітей та батьків “EGGstravaganza”
DESCRIPTION:Сімейне передвеликоднє свято для дітей та батьків “EGGstravaganza” \n*Подія організована Children’s Ministry при St Luke Lutheran Church спільно з Ukrainian Foundation.   \nЗапрошуємо на теплу родинну подію напередодні Великодня! \n Субота\, 4 квітня \n     Час проведення: 10:00–11:30.   \n St Luke Lutheran Church\n4595 SW California St\, Portland\, OR 97219 \n Вхід вільний! \n Обов’язково беріть із собою кошики для збору писанок! \nВ програмі заходу: \n– Легенда про великодню писанку (Narthex) та дитячий пошук писанок на подвір’ї разом зі скаутами. \n– Святковий сніданок (млинці\, сік\, кава)\, куточок писанкових традицій\, інформаційний стіл Ukrainian Foundation і творчі активності для дітей. \n– Виступ українського дитячого танцювального колективу  \nЧекаємо на вас\, щоб разом створити радісну передвеликодню атмосферу для всієї родини!
URL:https://ukrainian.foundation/event/eggstravaganza/
CATEGORIES:UF events
ATTACH;FMTTYPE=image/jpeg:https://ukrainian.foundation/wp-content/uploads/2026/03/EGGstravaganza.jpg
END:VEVENT
BEGIN:VEVENT
DTSTART;TZID=America/Los_Angeles:20260418T130000
DTEND;TZID=America/Los_Angeles:20260418T150000
DTSTAMP:20260419T175108
CREATED:20260415T231034Z
LAST-MODIFIED:20260415T231614Z
UID:10001538-1776517200-1776524400@ukrainian.foundation
SUMMARY:Наступна зустріч серії освітніх лекцій для української громади з профілактики залежностей (SUD)
DESCRIPTION: 18 квітня 2026 (субота)\n 13:00 – 15:00 \nЛекція №12\n«Здорова сім’я — як простір сили\, довіри та вибору» \n Crystal Springs Rhododendron Garden\n5801 SE 28th Ave\, Portland\, OR 97202 \n\nUkrainian Foundation спільно з Oregon Health Authority\nзапрошують на продовження серії освітніх зустрічей для української громади щодо профілактики залежностей (алкоголь\, наркотики та інші психоактивні речовини). \n\n Спікери програми PHOCUS:\n• Olha Parker\, PhD — ліцензований консультант із залежностей (Portland)\n• Люба Гоніна — Licensed Clinical Counselor та Board Certified Art Therapist \n\n Запрошуємо на спокійну та затишну зустріч серед природи\,\nде через рух\, спостереження та живе слово ми дослідимо\, як підтримка\, зв’язок і усвідомленість стають захистом від вживання психоактивних речовин. \nНа вас чекає:\n• коротка лекція про роль сім’ї як захисного фактору\n• прогулянка та практика майндфулнес \nВи зможете відчути спокій\, знайти нові способи підтримки себе та своїх близьких. \n\n Конфіденційність гарантована\nУсі обговорення залишаються приватними. \n Участь безкоштовна\nБез вимог до імміграційного статусу. \n\n Реєстрація для нових учасників:\nза посиланням або через QR-код на флаєрі \n 503-885-5684\n Phocus@ukrainian.foundation \n\n Більше інформації про ресурси допомоги:\nhttps://ukrainian.foundation/drug-and-alcohol-help/
URL:https://ukrainian.foundation/event/sud-12/
CATEGORIES:UF events
ATTACH;FMTTYPE=image/png:https://ukrainian.foundation/wp-content/uploads/2026/04/Screenshot-2026-04-15-at-4.12.54-PM.png
END:VEVENT
END:VCALENDAR